BEGIN:VCALENDAR
VERSION:2.0
PRODID:icalendar-ruby
CALSCALE:GREGORIAN
METHOD:PUBLISH
BEGIN:VEVENT
DTSTAMP:20260424T191816Z
UID:24-400318@thechristianway.church
DTSTART:20260425T190000Z
DTEND:20260426T000000Z
CLASS:PUBLIC
CREATED:20260420T055355
DESCRIPTION:
LAST-MODIFIED:20260420T055355
LOCATION:7630 Birch Bay Drive
SUMMARY:HOT DOGS!!
URL;VALUE=URI:https://www.thechristianway.church/events/hot-dogs/2026-04-25
ATTACH;FILENAME=20260418_092015.jpg;FMTTYPE=image/jpeg:https://dq5pwpg1q8ru
 0.cloudfront.net/2026/04/20/12/53/54/f292b938-8848-4856-8504-8ef0816c9a3c/
 20260418_092015.jpg
END:VEVENT
END:VCALENDAR
